BEGIN:VCALENDAR
VERSION:2.0
PRODID:-//Teamsters Local 1932 - ECPv6.15.20//NONSGML v1.0//EN
CALSCALE:GREGORIAN
METHOD:PUBLISH
X-ORIGINAL-URL:https://www.teamsters1932.org
X-WR-CALDESC:Events for Teamsters Local 1932
REFRESH-INTERVAL;VALUE=DURATION:PT1H
X-Robots-Tag:noindex
X-PUBLISHED-TTL:PT1H
BEGIN:VTIMEZONE
TZID:America/Los_Angeles
BEGIN:DAYLIGHT
TZOFFSETFROM:-0800
TZOFFSETTO:-0700
TZNAME:PDT
DTSTART:20240310T100000
END:DAYLIGHT
BEGIN:STANDARD
TZOFFSETFROM:-0700
TZOFFSETTO:-0800
TZNAME:PST
DTSTART:20241103T090000
END:STANDARD
BEGIN:DAYLIGHT
TZOFFSETFROM:-0800
TZOFFSETTO:-0700
TZNAME:PDT
DTSTART:20250309T100000
END:DAYLIGHT
BEGIN:STANDARD
TZOFFSETFROM:-0700
TZOFFSETTO:-0800
TZNAME:PST
DTSTART:20251102T090000
END:STANDARD
BEGIN:DAYLIGHT
TZOFFSETFROM:-0800
TZOFFSETTO:-0700
TZNAME:PDT
DTSTART:20260308T100000
END:DAYLIGHT
BEGIN:STANDARD
TZOFFSETFROM:-0700
TZOFFSETTO:-0800
TZNAME:PST
DTSTART:20261101T090000
END:STANDARD
END:VTIMEZONE
BEGIN:VEVENT
DTSTART;TZID=America/Los_Angeles:20250619T110000
DTEND;TZID=America/Los_Angeles:20250619T170000
DTSTAMP:20260422T153937
CREATED:20250616T203437Z
LAST-MODIFIED:20250616T203706Z
UID:9291-1750330800-1750352400@www.teamsters1932.org
SUMMARY:Juneteenth Block Party
DESCRIPTION:RSVP Here: https://docs.google.com/forms/d/e/1FAIpQLSfxGmGMK-bzK1_Lan1B6mI9z2-RRUrkgKTaCNm6lULXp9w-IA/viewform \n 
URL:https://www.teamsters1932.org/event/juneteenth-block-party/
ATTACH;FMTTYPE=image/jpeg:https://www.teamsters1932.org/app/uploads/2025/06/IMG_5522.jpg
END:VEVENT
BEGIN:VEVENT
DTSTART;TZID=America/Los_Angeles:20250620T090000
DTEND;TZID=America/Los_Angeles:20250620T170000
DTSTAMP:20260422T153937
CREATED:20250609T214921Z
LAST-MODIFIED:20250609T220241Z
UID:9269-1750410000-1750438800@www.teamsters1932.org
SUMMARY:Health and Welfare Trust Open Enrollment
DESCRIPTION:The Open Enrollment period for the Teamsters Local 1932 Health and Welfare Trust Fund is now open. This is your annual opportunity to review your benefits\, make changes to your health coverage\, and ensure you and your family are protected for the year ahead. \n  \nHere\, you will find a video that addresses much of the misinformation going around. Teamsters Local 1932 President\, Kathleen Brennan ( An 18-year County Employee) and Secretary-Treasurer\, Randy Korgan\, address members on Open Enrollment. \n  \nMemos for current Blue Shield and Kaiser Permanente participants were sent an Open Enrollment letter. You can view those here: Kaiser Letter\, Blue Shield Letter. \n  \nUpcoming Webinars and In Person help can be found here: https://www.teamsters1932.org/trust/ \n 
URL:https://www.teamsters1932.org/event/health-and-welfare-trust-open-enrollment/
ATTACH;FMTTYPE=image/png:https://www.teamsters1932.org/app/uploads/2025/06/Open-Enrollment-2.png
END:VEVENT
END:VCALENDAR