BEGIN:VCALENDAR
VERSION:2.0
PRODID:-//Teamsters Local 1932 - ECPv6.15.20//NONSGML v1.0//EN
CALSCALE:GREGORIAN
METHOD:PUBLISH
X-WR-CALNAME:Teamsters Local 1932
X-ORIGINAL-URL:https://www.teamsters1932.org
X-WR-CALDESC:Events for Teamsters Local 1932
REFRESH-INTERVAL;VALUE=DURATION:PT1H
X-Robots-Tag:noindex
X-PUBLISHED-TTL:PT1H
BEGIN:VTIMEZONE
TZID:America/Los_Angeles
BEGIN:DAYLIGHT
TZOFFSETFROM:-0800
TZOFFSETTO:-0700
TZNAME:PDT
DTSTART:20240310T100000
END:DAYLIGHT
BEGIN:STANDARD
TZOFFSETFROM:-0700
TZOFFSETTO:-0800
TZNAME:PST
DTSTART:20241103T090000
END:STANDARD
BEGIN:DAYLIGHT
TZOFFSETFROM:-0800
TZOFFSETTO:-0700
TZNAME:PDT
DTSTART:20250309T100000
END:DAYLIGHT
BEGIN:STANDARD
TZOFFSETFROM:-0700
TZOFFSETTO:-0800
TZNAME:PST
DTSTART:20251102T090000
END:STANDARD
BEGIN:DAYLIGHT
TZOFFSETFROM:-0800
TZOFFSETTO:-0700
TZNAME:PDT
DTSTART:20260308T100000
END:DAYLIGHT
BEGIN:STANDARD
TZOFFSETFROM:-0700
TZOFFSETTO:-0800
TZNAME:PST
DTSTART:20261101T090000
END:STANDARD
END:VTIMEZONE
BEGIN:VEVENT
DTSTART;TZID=America/Los_Angeles:20250520T173000
DTEND;TZID=America/Los_Angeles:20250520T190000
DTSTAMP:20260422T170517
CREATED:20250506T205136Z
LAST-MODIFIED:20250506T205136Z
UID:9248-1747762200-1747767600@www.teamsters1932.org
SUMMARY:General Membership Meeting
DESCRIPTION:
URL:https://www.teamsters1932.org/event/general-membership-meeting-10/
ATTACH;FMTTYPE=image/png:https://www.teamsters1932.org/app/uploads/2025/05/Copy-of-Copy-of-GMM-FLYER-1080-x-1080-px.png
END:VEVENT
END:VCALENDAR