BEGIN:VCALENDAR
VERSION:2.0
PRODID:-//Teamsters Local 1932 - ECPv6.15.20//NONSGML v1.0//EN
CALSCALE:GREGORIAN
METHOD:PUBLISH
X-WR-CALNAME:Teamsters Local 1932
X-ORIGINAL-URL:https://www.teamsters1932.org
X-WR-CALDESC:Events for Teamsters Local 1932
REFRESH-INTERVAL;VALUE=DURATION:PT1H
X-Robots-Tag:noindex
X-PUBLISHED-TTL:PT1H
BEGIN:VTIMEZONE
TZID:America/Los_Angeles
BEGIN:DAYLIGHT
TZOFFSETFROM:-0800
TZOFFSETTO:-0700
TZNAME:PDT
DTSTART:20240310T100000
END:DAYLIGHT
BEGIN:STANDARD
TZOFFSETFROM:-0700
TZOFFSETTO:-0800
TZNAME:PST
DTSTART:20241103T090000
END:STANDARD
BEGIN:DAYLIGHT
TZOFFSETFROM:-0800
TZOFFSETTO:-0700
TZNAME:PDT
DTSTART:20250309T100000
END:DAYLIGHT
BEGIN:STANDARD
TZOFFSETFROM:-0700
TZOFFSETTO:-0800
TZNAME:PST
DTSTART:20251102T090000
END:STANDARD
BEGIN:DAYLIGHT
TZOFFSETFROM:-0800
TZOFFSETTO:-0700
TZNAME:PDT
DTSTART:20260308T100000
END:DAYLIGHT
BEGIN:STANDARD
TZOFFSETFROM:-0700
TZOFFSETTO:-0800
TZNAME:PST
DTSTART:20261101T090000
END:STANDARD
END:VTIMEZONE
BEGIN:VEVENT
DTSTART;TZID=America/Los_Angeles:20250412T090000
DTEND;TZID=America/Los_Angeles:20250412T150000
DTSTAMP:20260422T183352
CREATED:20240911T174754Z
LAST-MODIFIED:20250128T221559Z
UID:8945-1744448400-1744470000@www.teamsters1932.org
SUMMARY:6th Annual Car Show
DESCRIPTION:Sign up for our 5th Annual Car Show Today!
URL:https://www.teamsters1932.org/event/5th-annual-car-show/
ATTACH;FMTTYPE=image/jpeg:https://www.teamsters1932.org/app/uploads/2024/09/Screenshot_20240905_163055_Messages.jpg
END:VEVENT
BEGIN:VEVENT
DTSTART;VALUE=DATE:20250418
DTEND;VALUE=DATE:20250419
DTSTAMP:20260422T183352
CREATED:20250324T152842Z
LAST-MODIFIED:20250402T213705Z
UID:9172-1744934400-1745020799@www.teamsters1932.org
SUMMARY:1932 Scholarship Application
DESCRIPTION:Dependent Application Click HERE. \nMember Application Click HERE.
URL:https://www.teamsters1932.org/event/1932-scholarship-application/
ATTACH;FMTTYPE=image/png:https://www.teamsters1932.org/app/uploads/2025/03/Screenshot-2025-03-24-082800.png
END:VEVENT
BEGIN:VEVENT
DTSTART;VALUE=DATE:20250422
DTEND;VALUE=DATE:20250423
DTSTAMP:20260422T183352
CREATED:20250403T152802Z
LAST-MODIFIED:20250403T152802Z
UID:9203-1745280000-1745366399@www.teamsters1932.org
SUMMARY:General Membership Meeting
DESCRIPTION:
URL:https://www.teamsters1932.org/event/general-membership-meeting-9/
ATTACH;FMTTYPE=image/png:https://www.teamsters1932.org/app/uploads/2025/04/GMM-FLYER-graphic-1.png
END:VEVENT
END:VCALENDAR