BEGIN:VCALENDAR
VERSION:2.0
PRODID:-//Teamsters Local 1932 - ECPv6.15.20//NONSGML v1.0//EN
CALSCALE:GREGORIAN
METHOD:PUBLISH
X-WR-CALNAME:Teamsters Local 1932
X-ORIGINAL-URL:https://www.teamsters1932.org
X-WR-CALDESC:Events for Teamsters Local 1932
REFRESH-INTERVAL;VALUE=DURATION:PT1H
X-Robots-Tag:noindex
X-PUBLISHED-TTL:PT1H
BEGIN:VTIMEZONE
TZID:America/Los_Angeles
BEGIN:DAYLIGHT
TZOFFSETFROM:-0800
TZOFFSETTO:-0700
TZNAME:PDT
DTSTART:20230312T100000
END:DAYLIGHT
BEGIN:STANDARD
TZOFFSETFROM:-0700
TZOFFSETTO:-0800
TZNAME:PST
DTSTART:20231105T090000
END:STANDARD
BEGIN:DAYLIGHT
TZOFFSETFROM:-0800
TZOFFSETTO:-0700
TZNAME:PDT
DTSTART:20240310T100000
END:DAYLIGHT
BEGIN:STANDARD
TZOFFSETFROM:-0700
TZOFFSETTO:-0800
TZNAME:PST
DTSTART:20241103T090000
END:STANDARD
BEGIN:DAYLIGHT
TZOFFSETFROM:-0800
TZOFFSETTO:-0700
TZNAME:PDT
DTSTART:20250309T100000
END:DAYLIGHT
BEGIN:STANDARD
TZOFFSETFROM:-0700
TZOFFSETTO:-0800
TZNAME:PST
DTSTART:20251102T090000
END:STANDARD
END:VTIMEZONE
BEGIN:VEVENT
DTSTART;TZID=America/Los_Angeles:20241204T150000
DTEND;TZID=America/Los_Angeles:20241204T190000
DTSTAMP:20260423T002743
CREATED:20241108T174813Z
LAST-MODIFIED:20241108T174847Z
UID:9007-1733324400-1733338800@www.teamsters1932.org
SUMMARY:Teamsters Local 1932 Open House
DESCRIPTION:
URL:https://www.teamsters1932.org/event/teamsters-local-1932-open-house/
ATTACH;FMTTYPE=image/png:https://www.teamsters1932.org/app/uploads/2024/11/open-House-flyer.png
END:VEVENT
BEGIN:VEVENT
DTSTART;TZID=America/Los_Angeles:20241207T080000
DTEND;TZID=America/Los_Angeles:20241207T170000
DTSTAMP:20260423T002743
CREATED:20241123T044642Z
LAST-MODIFIED:20241123T044642Z
UID:9031-1733558400-1733590800@www.teamsters1932.org
SUMMARY:Help a Teamster Family Member
DESCRIPTION:Teamster Brother\, Jesus Dehoyos\, has sadly lost his mother and is asking for donations to help with funeral expenses. \n  \nPlease Donate if you can. You can find the link Here: https://gofund.me/4c1db332 \n 
URL:https://www.teamsters1932.org/event/help-a-teamster-family-member/
ATTACH;FMTTYPE=image/png:https://www.teamsters1932.org/app/uploads/2024/11/gofundme-squarelogo-1590529947585.png
END:VEVENT
END:VCALENDAR