BEGIN:VCALENDAR
VERSION:2.0
PRODID:-//Teamsters Local 1932 - ECPv6.15.20//NONSGML v1.0//EN
CALSCALE:GREGORIAN
METHOD:PUBLISH
X-ORIGINAL-URL:https://www.teamsters1932.org
X-WR-CALDESC:Events for Teamsters Local 1932
REFRESH-INTERVAL;VALUE=DURATION:PT1H
X-Robots-Tag:noindex
X-PUBLISHED-TTL:PT1H
BEGIN:VTIMEZONE
TZID:America/Los_Angeles
BEGIN:DAYLIGHT
TZOFFSETFROM:-0800
TZOFFSETTO:-0700
TZNAME:PDT
DTSTART:20230312T100000
END:DAYLIGHT
BEGIN:STANDARD
TZOFFSETFROM:-0700
TZOFFSETTO:-0800
TZNAME:PST
DTSTART:20231105T090000
END:STANDARD
BEGIN:DAYLIGHT
TZOFFSETFROM:-0800
TZOFFSETTO:-0700
TZNAME:PDT
DTSTART:20240310T100000
END:DAYLIGHT
BEGIN:STANDARD
TZOFFSETFROM:-0700
TZOFFSETTO:-0800
TZNAME:PST
DTSTART:20241103T090000
END:STANDARD
BEGIN:DAYLIGHT
TZOFFSETFROM:-0800
TZOFFSETTO:-0700
TZNAME:PDT
DTSTART:20250309T100000
END:DAYLIGHT
BEGIN:STANDARD
TZOFFSETFROM:-0700
TZOFFSETTO:-0800
TZNAME:PST
DTSTART:20251102T090000
END:STANDARD
END:VTIMEZONE
BEGIN:VEVENT
DTSTART;TZID=America/Los_Angeles:20240131T190000
DTEND;TZID=America/Los_Angeles:20240409T190000
DTSTAMP:20260422T114156
CREATED:20231128T173612Z
LAST-MODIFIED:20231128T173612Z
UID:8460-1706727600-1712689200@www.teamsters1932.org
SUMMARY:Anaheim Ducks Teamster Night
DESCRIPTION:Join us for Teamster Night! \n  \nPurchase your tickets by clicking here!
URL:https://www.teamsters1932.org/event/anaheim-ducks-teamster-night/
LOCATION:Honda Center\, 2695 E Katella Ave\, ANAHEIM\, United States
ATTACH;FMTTYPE=image/jpeg:https://www.teamsters1932.org/app/uploads/2023/11/2023-24-ADHC_TeamsterNight_8.5x11.jpg
END:VEVENT
BEGIN:VEVENT
DTSTART;TZID=America/Los_Angeles:20240301T110000
DTEND;TZID=America/Los_Angeles:20240301T110000
DTSTAMP:20260422T114156
CREATED:20240131T182727Z
LAST-MODIFIED:20240131T182727Z
UID:8530-1709290800-1709290800@www.teamsters1932.org
SUMMARY:Legal Advice with Pat J. Silva\, Attorney at Law
DESCRIPTION:FREE LEGAL ADVICE FOR LOCAL 1932 MEMBERS ONLY \n– \nPatrick J. Silva Attorney At Law — 1st Friday of Each Month at 11 A.M. 421 N. Sierra Way\, San Bernardino \n– \nQuestions? Contact Michelle Fraley — mfraley@teamsters1932.org — (909) 889-8377
URL:https://www.teamsters1932.org/event/legal-advice-with-pat-j-silva-attorney-at-law-2/
LOCATION:Teamsters Local 1932\, 421 N Sierra Way\, San Bernardino\, CA\, 92410\, United States
ATTACH;FMTTYPE=image/jpeg:https://www.teamsters1932.org/app/uploads/2024/01/Attorney-Fridays-Flyer52.jpg
ORGANIZER;CN="Local 1932":MAILTO:info@teamsters1932.org
END:VEVENT
BEGIN:VEVENT
DTSTART;TZID=America/Los_Angeles:20240326T173000
DTEND;TZID=America/Los_Angeles:20240326T190000
DTSTAMP:20260422T114156
CREATED:20240122T183326Z
LAST-MODIFIED:20240122T183340Z
UID:8518-1711474200-1711479600@www.teamsters1932.org
SUMMARY:General Membership Meeting
DESCRIPTION:Please join us for your union’s monthly General Membership Meeting!
URL:https://www.teamsters1932.org/event/general-membership-meeting-4/
LOCATION:Cammack Hall\, 433 N. Sierra Way\, San Bernardino\, CA\, 922410\, United States
ATTACH;FMTTYPE=image/png:https://www.teamsters1932.org/app/uploads/2018/09/generalmembership.png
END:VEVENT
END:VCALENDAR