BEGIN:VCALENDAR
VERSION:2.0
PRODID:-//Teamsters Local 1932 - ECPv6.15.20//NONSGML v1.0//EN
CALSCALE:GREGORIAN
METHOD:PUBLISH
X-WR-CALNAME:Teamsters Local 1932
X-ORIGINAL-URL:https://www.teamsters1932.org
X-WR-CALDESC:Events for Teamsters Local 1932
REFRESH-INTERVAL;VALUE=DURATION:PT1H
X-Robots-Tag:noindex
X-PUBLISHED-TTL:PT1H
BEGIN:VTIMEZONE
TZID:America/Los_Angeles
BEGIN:DAYLIGHT
TZOFFSETFROM:-0800
TZOFFSETTO:-0700
TZNAME:PDT
DTSTART:20220313T100000
END:DAYLIGHT
BEGIN:STANDARD
TZOFFSETFROM:-0700
TZOFFSETTO:-0800
TZNAME:PST
DTSTART:20221106T090000
END:STANDARD
BEGIN:DAYLIGHT
TZOFFSETFROM:-0800
TZOFFSETTO:-0700
TZNAME:PDT
DTSTART:20230312T100000
END:DAYLIGHT
BEGIN:STANDARD
TZOFFSETFROM:-0700
TZOFFSETTO:-0800
TZNAME:PST
DTSTART:20231105T090000
END:STANDARD
BEGIN:DAYLIGHT
TZOFFSETFROM:-0800
TZOFFSETTO:-0700
TZNAME:PDT
DTSTART:20240310T100000
END:DAYLIGHT
BEGIN:STANDARD
TZOFFSETFROM:-0700
TZOFFSETTO:-0800
TZNAME:PST
DTSTART:20241103T090000
END:STANDARD
BEGIN:DAYLIGHT
TZOFFSETFROM:-0800
TZOFFSETTO:-0700
TZNAME:PDT
DTSTART:20250309T100000
END:DAYLIGHT
BEGIN:STANDARD
TZOFFSETFROM:-0700
TZOFFSETTO:-0800
TZNAME:PST
DTSTART:20251102T090000
END:STANDARD
END:VTIMEZONE
BEGIN:VEVENT
DTSTART;TZID=America/Los_Angeles:20240928T110000
DTEND;TZID=America/Los_Angeles:20240928T160000
DTSTAMP:20260420T044001
CREATED:20240806T183129Z
LAST-MODIFIED:20240806T183520Z
UID:8892-1727521200-1727539200@www.teamsters1932.org
SUMMARY:Annual Member Picnic
DESCRIPTION:
URL:https://www.teamsters1932.org/event/annual-member-picnic/
ATTACH;FMTTYPE=image/png:https://www.teamsters1932.org/app/uploads/2024/08/annual-family-day-picnic.png
END:VEVENT
BEGIN:VEVENT
DTSTART;TZID=America/Los_Angeles:20240924T173000
DTEND;TZID=America/Los_Angeles:20240924T190000
DTSTAMP:20260420T044001
CREATED:20240917T165011Z
LAST-MODIFIED:20240917T165041Z
UID:8957-1727199000-1727204400@www.teamsters1932.org
SUMMARY:General Membership Meeting
DESCRIPTION:
URL:https://www.teamsters1932.org/event/general-membership-meeting-6/
ATTACH;FMTTYPE=image/png:https://www.teamsters1932.org/app/uploads/2024/09/GENERAL-MEMBERSHIP-MEETING.png
END:VEVENT
BEGIN:VEVENT
DTSTART;TZID=America/Los_Angeles:20240914T080000
DTEND;TZID=America/Los_Angeles:20240914T170000
DTSTAMP:20260420T044001
CREATED:20240806T183232Z
LAST-MODIFIED:20240806T183624Z
UID:8896-1726300800-1726333200@www.teamsters1932.org
SUMMARY:Teamsters Local 1932 4th Annual Women's Conference
DESCRIPTION:
URL:https://www.teamsters1932.org/event/teamsters-local-1932-4th-annual-womens-conference/
ATTACH;FMTTYPE=image/png:https://www.teamsters1932.org/app/uploads/2024/08/1932-womens-conference.png
END:VEVENT
BEGIN:VEVENT
DTSTART;VALUE=DATE:20240731
DTEND;VALUE=DATE:20240801
DTSTAMP:20260420T044001
CREATED:20240610T220531Z
LAST-MODIFIED:20240627T204711Z
UID:8791-1722384000-1722470399@www.teamsters1932.org
SUMMARY:Chargers Home Games
DESCRIPTION:Purchase your tickets now!
URL:https://www.teamsters1932.org/event/chargers-home-games/
ATTACH;FMTTYPE=image/png:https://www.teamsters1932.org/app/uploads/2024/06/Untitled-design.png
END:VEVENT
BEGIN:VEVENT
DTSTART;VALUE=DATE:20240731
DTEND;VALUE=DATE:20240801
DTSTAMP:20260420T044001
CREATED:20240624T174714Z
LAST-MODIFIED:20240627T204738Z
UID:8809-1722384000-1722470399@www.teamsters1932.org
SUMMARY:Dodgers Union Night
DESCRIPTION:
URL:https://www.teamsters1932.org/event/dodgers-union-night/
ATTACH;FMTTYPE=image/png:https://www.teamsters1932.org/app/uploads/2024/06/Dodgers-Union-Night-2024.png
END:VEVENT
BEGIN:VEVENT
DTSTART;VALUE=DATE:20240731
DTEND;VALUE=DATE:20240801
DTSTAMP:20260420T044001
CREATED:20240610T215318Z
LAST-MODIFIED:20240627T204639Z
UID:8785-1722384000-1722470399@www.teamsters1932.org
SUMMARY:Rams Home Games
DESCRIPTION:Purchase your tickets now!
URL:https://www.teamsters1932.org/event/rams-home-games/
ATTACH;FMTTYPE=image/png:https://www.teamsters1932.org/app/uploads/2024/06/Copy-of-ALL-HOME-GAMES-ARE-AVAILABLE-NOW.png
END:VEVENT
BEGIN:VEVENT
DTSTART;VALUE=DATE:20240722
DTEND;VALUE=DATE:20240723
DTSTAMP:20260420T044001
CREATED:20240703T183144Z
LAST-MODIFIED:20240710T174303Z
UID:8832-1721606400-1721692799@www.teamsters1932.org
SUMMARY:Worker Power Hour: Live Radio Show
DESCRIPTION:Listen Live Here
URL:https://www.teamsters1932.org/event/worker-power-hour-live-radio-show/
ATTACH;FMTTYPE=image/png:https://www.teamsters1932.org/app/uploads/2024/07/Square-Worker-Power-Hour-Radio.png
END:VEVENT
BEGIN:VEVENT
DTSTART;VALUE=DATE:20240630
DTEND;VALUE=DATE:20240801
DTSTAMP:20260420T044001
CREATED:20240624T174910Z
LAST-MODIFIED:20240627T204755Z
UID:8812-1719705600-1722470399@www.teamsters1932.org
SUMMARY:Angels Union Night
DESCRIPTION:Multiple games are being offered! Buy your tickets now!
URL:https://www.teamsters1932.org/event/angels-union-night/
ATTACH;FMTTYPE=image/png:https://www.teamsters1932.org/app/uploads/2024/06/Angles-Night_2024.png
END:VEVENT
BEGIN:VEVENT
DTSTART;TZID=America/Los_Angeles:20240612T140000
DTEND;TZID=America/Los_Angeles:20240612T150000
DTSTAMP:20260420T044001
CREATED:20240610T221501Z
LAST-MODIFIED:20240610T221556Z
UID:8794-1718200800-1718204400@www.teamsters1932.org
SUMMARY:Worker Power Hour- Randy Korgan
DESCRIPTION:Listen live this Wednesday at 2 PM!
URL:https://www.teamsters1932.org/event/worker-power-hour-randy-korgam/
ATTACH;FMTTYPE=image/png:https://www.teamsters1932.org/app/uploads/2024/06/Untitled-design-1.png
END:VEVENT
BEGIN:VEVENT
DTSTART;TZID=America/Los_Angeles:20240528T173000
DTEND;TZID=America/Los_Angeles:20240528T190000
DTSTAMP:20260420T044001
CREATED:20240122T183642Z
LAST-MODIFIED:20240429T193605Z
UID:8521-1716917400-1716922800@www.teamsters1932.org
SUMMARY:General Membership Meeting
DESCRIPTION:Please join us for your union’s monthly General Membership Meeting!
URL:https://www.teamsters1932.org/event/general-membership-meeting-5/
LOCATION:Cammack Hall\, 433 N. Sierra Way\, San Bernardino\, CA\, 922410\, United States
ATTACH;FMTTYPE=image/png:https://www.teamsters1932.org/app/uploads/2018/09/generalmembership.png
END:VEVENT
BEGIN:VEVENT
DTSTART;TZID=America/Los_Angeles:20240508T173000
DTEND;TZID=America/Los_Angeles:20240508T183000
DTSTAMP:20260420T044001
CREATED:20240401T185700Z
LAST-MODIFIED:20240408T184138Z
UID:8614-1715189400-1715193000@www.teamsters1932.org
SUMMARY:Workshop: Debt Management
DESCRIPTION:Teamster Workshop: Debt Management\n–\n\n\nHow to best handle debt\n\n\nHow to allocate money to avoid debt\n\n\nHow to start a consolidation\n\n\n– \nLimited space available; first 100 registrants allowed entry.\n–\n\n\n                \n                        \n                            Debt Management Workshop RSVPs\n                        \n                        Name(Required)\n                            \n                            \n                                                    First\n                                                    \n                                                \n                            \n                            \n                                                            Last\n                                                            \n                                                        \n                            \n                        Phone(Required)Email(Required)\n                            \n                        Where do you work?(Required)\n          \n            \n            \n            \n            \n            \n            \n            \n            \n            \n            \n            \n            \n            \n        \n                        Δ
URL:https://www.teamsters1932.org/event/workshop-debt-management/
LOCATION:Cammack Hall\, 433 N. Sierra Way\, San Bernardino\, CA\, 922410\, United States
ATTACH;FMTTYPE=image/png:https://www.teamsters1932.org/app/uploads/2024/04/debt-management-copy.png
ORGANIZER;CN="Becky Lepins":MAILTO:blepins@teamsters1932.org
END:VEVENT
BEGIN:VEVENT
DTSTART;TZID=America/Los_Angeles:20240503T170000
DTEND;TZID=America/Los_Angeles:20240503T170000
DTSTAMP:20260420T044001
CREATED:20240415T210412Z
LAST-MODIFIED:20240415T211451Z
UID:8641-1714755600-1714755600@www.teamsters1932.org
SUMMARY:Local 1932 Academic Scholarship Application Deadline
DESCRIPTION:Member and dependent scholarship awards available. Learn more and apply here before the deadline — https://www.teamsters1932.org/member-benefits/scholarships/
URL:https://www.teamsters1932.org/event/local-1932-academic-scholarship-application-deadline/
LOCATION:Teamsters Local 1932\, 421 N Sierra Way\, San Bernardino\, CA\, 92410\, United States
ATTACH;FMTTYPE=image/png:https://www.teamsters1932.org/app/uploads/2024/04/Navy-Clean-Scholarship-Instagram-Post.png
END:VEVENT
BEGIN:VEVENT
DTSTART;TZID=America/Los_Angeles:20240413T090000
DTEND;TZID=America/Los_Angeles:20240413T150000
DTSTAMP:20260420T044001
CREATED:20230823T020343Z
LAST-MODIFIED:20240328T101049Z
UID:8260-1712998800-1713020400@www.teamsters1932.org
SUMMARY:Teamsters Annual Spring Fling Car Show 2024
DESCRIPTION:Registration is now available for our annual Spring Fling Car Show scheduled to take place April 13\, 2024. \n  \nMore details to come!
URL:https://www.teamsters1932.org/event/teamsters-annual-spring-fling-and-car-show-2024/
LOCATION:Teamsters Local 1932\, 421 N Sierra Way\, San Bernardino\, CA\, 92410\, United States
ATTACH;FMTTYPE=image/png:https://www.teamsters1932.org/app/uploads/2023/08/Car-Show.png
END:VEVENT
BEGIN:VEVENT
DTSTART;TZID=America/Los_Angeles:20240326T173000
DTEND;TZID=America/Los_Angeles:20240326T190000
DTSTAMP:20260420T044001
CREATED:20240122T183326Z
LAST-MODIFIED:20240122T183340Z
UID:8518-1711474200-1711479600@www.teamsters1932.org
SUMMARY:General Membership Meeting
DESCRIPTION:Please join us for your union’s monthly General Membership Meeting!
URL:https://www.teamsters1932.org/event/general-membership-meeting-4/
LOCATION:Cammack Hall\, 433 N. Sierra Way\, San Bernardino\, CA\, 922410\, United States
ATTACH;FMTTYPE=image/png:https://www.teamsters1932.org/app/uploads/2018/09/generalmembership.png
END:VEVENT
BEGIN:VEVENT
DTSTART;TZID=America/Los_Angeles:20240301T110000
DTEND;TZID=America/Los_Angeles:20240301T110000
DTSTAMP:20260420T044001
CREATED:20240131T182727Z
LAST-MODIFIED:20240131T182727Z
UID:8530-1709290800-1709290800@www.teamsters1932.org
SUMMARY:Legal Advice with Pat J. Silva\, Attorney at Law
DESCRIPTION:FREE LEGAL ADVICE FOR LOCAL 1932 MEMBERS ONLY \n– \nPatrick J. Silva Attorney At Law — 1st Friday of Each Month at 11 A.M. 421 N. Sierra Way\, San Bernardino \n– \nQuestions? Contact Michelle Fraley — mfraley@teamsters1932.org — (909) 889-8377
URL:https://www.teamsters1932.org/event/legal-advice-with-pat-j-silva-attorney-at-law-2/
LOCATION:Teamsters Local 1932\, 421 N Sierra Way\, San Bernardino\, CA\, 92410\, United States
ATTACH;FMTTYPE=image/jpeg:https://www.teamsters1932.org/app/uploads/2024/01/Attorney-Fridays-Flyer52.jpg
ORGANIZER;CN="Local 1932":MAILTO:info@teamsters1932.org
END:VEVENT
BEGIN:VEVENT
DTSTART;TZID=America/Los_Angeles:20240222T173000
DTEND;TZID=America/Los_Angeles:20240222T183000
DTSTAMP:20260420T044001
CREATED:20240110T232032Z
LAST-MODIFIED:20240110T232122Z
UID:8508-1708623000-1708626600@www.teamsters1932.org
SUMMARY:Preparing for Retirement Workshop
DESCRIPTION:Unlock the secrets to a secure retirement with our special Financial Literacy class\, tailored for Teamsters approaching retirement: \n\nMaximize the new retiree benefits from your recent contract\nExpert advice on savings\, debt management\, and investment\n\nPLEASE RSVP BELOW: \n— \n\n                \n                        \n                            Financial Literacy for Future Retirees (RSVP)\n                        \n                        Name(Required)\n                            \n                            \n                                                    First\n                                                    \n                                                \n                            \n                            \n                                                            Last\n                                                            \n                                                        \n                            \n                        Phone(Required)\n          \n            \n            \n            \n            \n            \n            \n            \n            \n            \n            \n            \n            \n            \n        \n                        Δ
URL:https://www.teamsters1932.org/event/retireeclass/
LOCATION:Cammack Hall\, 433 N. Sierra Way\, San Bernardino\, CA\, 922410\, United States
ATTACH;FMTTYPE=image/png:https://www.teamsters1932.org/app/uploads/2024/01/Your-paragraph-text.png
ORGANIZER;CN="Becky Lepins":MAILTO:blepins@teamsters1932.org
END:VEVENT
BEGIN:VEVENT
DTSTART;TZID=America/Los_Angeles:20240220T173000
DTEND;TZID=America/Los_Angeles:20240220T190000
DTSTAMP:20260420T044001
CREATED:20240122T174849Z
LAST-MODIFIED:20240123T175814Z
UID:8516-1708450200-1708455600@www.teamsters1932.org
SUMMARY:General Membership Meeting
DESCRIPTION:Please join us for your union’s monthly General Membership Meeting!
URL:https://www.teamsters1932.org/event/general-membership-meeting-3/
LOCATION:Cammack Hall\, 433 N. Sierra Way\, San Bernardino\, CA\, 922410\, United States
ATTACH;FMTTYPE=image/png:https://www.teamsters1932.org/app/uploads/2018/09/generalmembership.png
END:VEVENT
BEGIN:VEVENT
DTSTART;TZID=America/Los_Angeles:20240209T110000
DTEND;TZID=America/Los_Angeles:20240209T110000
DTSTAMP:20260420T044001
CREATED:20240131T182631Z
LAST-MODIFIED:20240131T183413Z
UID:8527-1707476400-1707476400@www.teamsters1932.org
SUMMARY:Legal Advice with Pat J. Silva\, Attorney at Law
DESCRIPTION:FREE LEGAL ADVICE FOR LOCAL 1932 MEMBERS ONLY \n– \nPatrick J. Silva Attorney At Law — 1st Friday of Each Month at 11 A.M. 421 N. Sierra Way\, San Bernardino \n– \nQuestions? Contact Michelle Fraley — mfraley@teamsters1932.org — (909) 889-8377
URL:https://www.teamsters1932.org/event/legal-advice-with-pat-j-silva-attorney-at-law/
LOCATION:Teamsters Local 1932\, 421 N Sierra Way\, San Bernardino\, CA\, 92410\, United States
ATTACH;FMTTYPE=image/jpeg:https://www.teamsters1932.org/app/uploads/2024/01/Attorney-Fridays-Flyer52.jpg
ORGANIZER;CN="Local 1932":MAILTO:info@teamsters1932.org
END:VEVENT
BEGIN:VEVENT
DTSTART;TZID=America/Los_Angeles:20240131T190000
DTEND;TZID=America/Los_Angeles:20240409T190000
DTSTAMP:20260420T044001
CREATED:20231128T173612Z
LAST-MODIFIED:20231128T173612Z
UID:8460-1706727600-1712689200@www.teamsters1932.org
SUMMARY:Anaheim Ducks Teamster Night
DESCRIPTION:Join us for Teamster Night! \n  \nPurchase your tickets by clicking here!
URL:https://www.teamsters1932.org/event/anaheim-ducks-teamster-night/
LOCATION:Honda Center\, 2695 E Katella Ave\, ANAHEIM\, United States
ATTACH;FMTTYPE=image/jpeg:https://www.teamsters1932.org/app/uploads/2023/11/2023-24-ADHC_TeamsterNight_8.5x11.jpg
END:VEVENT
BEGIN:VEVENT
DTSTART;TZID=America/Los_Angeles:20240123T173000
DTEND;TZID=America/Los_Angeles:20240123T190000
DTSTAMP:20260420T044001
CREATED:20240122T174645Z
LAST-MODIFIED:20240122T174645Z
UID:8513-1706031000-1706036400@www.teamsters1932.org
SUMMARY:General Membership Meeting
DESCRIPTION:Please join us for your union’s monthly General Membership Meeting!
URL:https://www.teamsters1932.org/event/general-membership-meeting-2/
LOCATION:Cammack Hall\, 433 N. Sierra Way\, San Bernardino\, CA\, 922410\, United States
ATTACH;FMTTYPE=image/png:https://www.teamsters1932.org/app/uploads/2018/09/generalmembership.png
END:VEVENT
BEGIN:VEVENT
DTSTART;TZID=America/Los_Angeles:20231227T190000
DTEND;TZID=America/Los_Angeles:20240203T180000
DTSTAMP:20260420T044001
CREATED:20231130T230012Z
LAST-MODIFIED:20231130T230012Z
UID:8468-1703703600-1706983200@www.teamsters1932.org
SUMMARY:Coachella Valley Firebirds
DESCRIPTION:Purchase your discounted tickets by clicking here!
URL:https://www.teamsters1932.org/event/coachella-valley-firebirds/
LOCATION:Acrisure Arena\, 75702 Varner Road\, Palm Desert\, CA\, 92111\, United States
ATTACH;FMTTYPE=image/jpeg:https://www.teamsters1932.org/app/uploads/2023/11/Coachella-Firebirds-Holiday-Plan-.jpg
END:VEVENT
BEGIN:VEVENT
DTSTART;TZID=America/Los_Angeles:20231219T173000
DTEND;TZID=America/Los_Angeles:20231219T193000
DTSTAMP:20260420T044001
CREATED:20231212T024517Z
LAST-MODIFIED:20231212T024517Z
UID:8483-1703007000-1703014200@www.teamsters1932.org
SUMMARY:General Membership
DESCRIPTION:Join us for our monthly membership meeting on December 19\, 2023 at 5:30 p.m. \n 
URL:https://www.teamsters1932.org/event/general-membership/
LOCATION:Cammack Hall\, 433 N. Sierra Way\, San Bernardino\, CA\, 922410\, United States
ATTACH;FMTTYPE=image/jpeg:https://www.teamsters1932.org/app/uploads/2023/12/General-Membership-Flyer-December.jpg
END:VEVENT
BEGIN:VEVENT
DTSTART;TZID=America/Los_Angeles:20231206T140000
DTEND;TZID=America/Los_Angeles:20231206T190000
DTSTAMP:20260420T044001
CREATED:20231115T042847Z
LAST-MODIFIED:20231128T172344Z
UID:8437-1701871200-1701889200@www.teamsters1932.org
SUMMARY:Holiday Open House
DESCRIPTION:Light refreshments\nSanta’s Interactive Workshop\nSnowman Bounce House\nIndoor Family Games\nShopping Stands\nFree Photo With Santa!\nAnd so much more!
URL:https://www.teamsters1932.org/event/holiday-open-house/
LOCATION:Teamsters Local 1932\, 421 N Sierra Way\, San Bernardino\, CA\, 92410\, United States
ATTACH;FMTTYPE=image/jpeg:https://www.teamsters1932.org/app/uploads/2023/11/IMG_0965.jpg
END:VEVENT
BEGIN:VEVENT
DTSTART;TZID=America/Los_Angeles:20231126T130000
DTEND;TZID=America/Los_Angeles:20231126T193000
DTSTAMP:20260420T044001
CREATED:20230803T171445Z
LAST-MODIFIED:20231030T221013Z
UID:8219-1701003600-1701027000@www.teamsters1932.org
SUMMARY:LA Chargers Discounted Tickets
DESCRIPTION:BACK BY POULAR DEMAND \n\n\n\n\n\n– NOVEMBER 26TH VS BALTIMORE RAVENS \nClick the here to purchase your discounted tickets. 
URL:https://www.teamsters1932.org/event/la-chargers-discounted-tickets/
LOCATION:SoFi Stadium\, 1001 Stadium Dr\, Inglewood\, CA\, United States
ATTACH;FMTTYPE=image/jpeg:https://www.teamsters1932.org/app/uploads/2023/08/LA-Chargers-2.jpg
END:VEVENT
BEGIN:VEVENT
DTSTART;TZID=America/Los_Angeles:20231117T180000
DTEND;TZID=America/Los_Angeles:20231117T200000
DTSTAMP:20260420T044001
CREATED:20231005T235858Z
LAST-MODIFIED:20231005T235858Z
UID:8344-1700244000-1700251200@www.teamsters1932.org
SUMMARY:2nd Annual Chili Cook-Off
DESCRIPTION:Join the LGBTQ+ Committee for their 2nd Annual Chili Cook-Off on Friday\, November 17th at 6 p.m. \n  \nRSVP by clicking here!
URL:https://www.teamsters1932.org/event/2nd-annual-chili-cook-off/
LOCATION:Teamsters Local 1932\, 421 N Sierra Way\, San Bernardino\, CA\, 92410\, United States
ATTACH;FMTTYPE=image/jpeg:https://www.teamsters1932.org/app/uploads/2023/10/Red-and-Yellow-Ilustration-Potluck-Event-Flyer-2.jpg
END:VEVENT
BEGIN:VEVENT
DTSTART;TZID=America/Los_Angeles:20231116T173000
DTEND;TZID=America/Los_Angeles:20231116T193000
DTSTAMP:20260420T044001
CREATED:20231005T234952Z
LAST-MODIFIED:20231107T165407Z
UID:8337-1700155800-1700163000@www.teamsters1932.org
SUMMARY:General Membership Meeting
DESCRIPTION:Join us on Thursday\, November 16th for our General Membership Meeting!
URL:https://www.teamsters1932.org/event/general-membership-meeting/
LOCATION:Teamsters Local 1932\, 421 N Sierra Way\, San Bernardino\, CA\, 92410\, United States
ATTACH;FMTTYPE=image/jpeg:https://www.teamsters1932.org/app/uploads/2023/10/General-Membership-Flyer-November.jpg
END:VEVENT
BEGIN:VEVENT
DTSTART;TZID=America/Los_Angeles:20231103T180000
DTEND;TZID=America/Los_Angeles:20231103T203000
DTSTAMP:20260420T044001
CREATED:20231005T235435Z
LAST-MODIFIED:20231005T235435Z
UID:8339-1699034400-1699043400@www.teamsters1932.org
SUMMARY:Día de los Muertos Hosted by Hispanic Caucus
DESCRIPTION:Celebrate Día de los Muertos with Teamsters Local 1932’s Hispanic Caucus Friday\, November 3rd.
URL:https://www.teamsters1932.org/event/dia-de-los-muertos-hosted-by-hispanic-caucus/
LOCATION:Local 1932 Courtyard\, 433 N. Sierra Way\, San Bernardino\, CA\, 922410\, United States
ATTACH;FMTTYPE=image/jpeg:https://www.teamsters1932.org/app/uploads/2023/10/dia-de-lo.jpg
END:VEVENT
END:VCALENDAR