BEGIN:VCALENDAR
VERSION:2.0
PRODID:-//Teamsters Local 1932 - ECPv6.15.20//NONSGML v1.0//EN
CALSCALE:GREGORIAN
METHOD:PUBLISH
X-WR-CALNAME:Teamsters Local 1932
X-ORIGINAL-URL:https://www.teamsters1932.org
X-WR-CALDESC:Events for Teamsters Local 1932
REFRESH-INTERVAL;VALUE=DURATION:PT1H
X-Robots-Tag:noindex
X-PUBLISHED-TTL:PT1H
BEGIN:VTIMEZONE
TZID:America/Los_Angeles
BEGIN:DAYLIGHT
TZOFFSETFROM:-0800
TZOFFSETTO:-0700
TZNAME:PDT
DTSTART:20250309T100000
END:DAYLIGHT
BEGIN:STANDARD
TZOFFSETFROM:-0700
TZOFFSETTO:-0800
TZNAME:PST
DTSTART:20251102T090000
END:STANDARD
BEGIN:DAYLIGHT
TZOFFSETFROM:-0800
TZOFFSETTO:-0700
TZNAME:PDT
DTSTART:20260308T100000
END:DAYLIGHT
BEGIN:STANDARD
TZOFFSETFROM:-0700
TZOFFSETTO:-0800
TZNAME:PST
DTSTART:20261101T090000
END:STANDARD
BEGIN:DAYLIGHT
TZOFFSETFROM:-0800
TZOFFSETTO:-0700
TZNAME:PDT
DTSTART:20270314T100000
END:DAYLIGHT
BEGIN:STANDARD
TZOFFSETFROM:-0700
TZOFFSETTO:-0800
TZNAME:PST
DTSTART:20271107T090000
END:STANDARD
END:VTIMEZONE
BEGIN:VEVENT
DTSTART;TZID=America/Los_Angeles:20260127T173000
DTEND;TZID=America/Los_Angeles:20260127T200000
DTSTAMP:20260422T155628
CREATED:20260107T210413Z
LAST-MODIFIED:20260123T195531Z
UID:9613-1769535000-1769544000@www.teamsters1932.org
SUMMARY:January Membership Meeting
DESCRIPTION:
URL:https://www.teamsters1932.org/event/january-membership-meeting/
ATTACH;FMTTYPE=image/png:https://www.teamsters1932.org/app/uploads/2026/01/GMM-socials-3.png
END:VEVENT
BEGIN:VEVENT
DTSTART;TZID=America/Los_Angeles:20260204T170000
DTEND;TZID=America/Los_Angeles:20260204T190000
DTSTAMP:20260422T155628
CREATED:20251203T190402Z
LAST-MODIFIED:20251203T190402Z
UID:9562-1770224400-1770231600@www.teamsters1932.org
SUMMARY:Retirement Seminar
DESCRIPTION:Contact Becky Lepins for more info (blepins@teamsters1932.org).
URL:https://www.teamsters1932.org/event/retirement-seminar/
ATTACH;FMTTYPE=image/jpeg:https://www.teamsters1932.org/app/uploads/2025/12/Retirement-Seminar-February-4-2026.jpg
END:VEVENT
BEGIN:VEVENT
DTSTART;TZID=America/Los_Angeles:20260224T080000
DTEND;TZID=America/Los_Angeles:20260224T170000
DTSTAMP:20260422T155628
CREATED:20260209T202907Z
LAST-MODIFIED:20260209T202907Z
UID:9653-1771920000-1771952400@www.teamsters1932.org
SUMMARY:February General Membership Meeting
DESCRIPTION:
URL:https://www.teamsters1932.org/event/february-general-membership-meeting/
ATTACH;FMTTYPE=image/png:https://www.teamsters1932.org/app/uploads/2026/02/GMM-socials-4.png
END:VEVENT
BEGIN:VEVENT
DTSTART;VALUE=DATE:20260228
DTEND;VALUE=DATE:20260301
DTSTAMP:20260422T155628
CREATED:20260227T004009Z
LAST-MODIFIED:20260227T004009Z
UID:9672-1772236800-1772323199@www.teamsters1932.org
SUMMARY:Movie Night: 1932 Black Power Committee
DESCRIPTION:
URL:https://www.teamsters1932.org/event/movie-night-1932-black-power-committee/
ATTACH;FMTTYPE=image/png:https://www.teamsters1932.org/app/uploads/2026/02/black-power-committee-movie-night-1.png
END:VEVENT
BEGIN:VEVENT
DTSTART;TZID=America/Los_Angeles:20260324T173000
DTEND;TZID=America/Los_Angeles:20260324T200000
DTSTAMP:20260422T155628
CREATED:20260309T162234Z
LAST-MODIFIED:20260309T162323Z
UID:9700-1774373400-1774382400@www.teamsters1932.org
SUMMARY:General Membership Meeting
DESCRIPTION:
URL:https://www.teamsters1932.org/event/general-membership-meeting-13/
ATTACH;FMTTYPE=image/png:https://www.teamsters1932.org/app/uploads/2026/03/GMM-socials-.png
END:VEVENT
BEGIN:VEVENT
DTSTART;TZID=America/Los_Angeles:20260428T173000
DTEND;TZID=America/Los_Angeles:20260428T200000
DTSTAMP:20260422T155628
CREATED:20260325T045753Z
LAST-MODIFIED:20260325T045753Z
UID:9727-1777397400-1777406400@www.teamsters1932.org
SUMMARY:April General Membership Meeting
DESCRIPTION:
URL:https://www.teamsters1932.org/event/april-general-membership-meeting/
ATTACH;FMTTYPE=image/png:https://www.teamsters1932.org/app/uploads/2026/03/GMM-socials-1.png
END:VEVENT
BEGIN:VEVENT
DTSTART;TZID=America/Los_Angeles:20260502T090000
DTEND;TZID=America/Los_Angeles:20260502T150000
DTSTAMP:20260422T155628
CREATED:20260408T185137Z
LAST-MODIFIED:20260408T185634Z
UID:9740-1777712400-1777734000@www.teamsters1932.org
SUMMARY:Car Show New Date: May 2nd
DESCRIPTION:To register your vehicle\, click here: https://www.teamsters1932.org/show/ \n 
URL:https://www.teamsters1932.org/event/car-show-new-date-may-2nd/
ATTACH;FMTTYPE=image/jpeg:https://www.teamsters1932.org/app/uploads/2026/04/car-show-FLYER-2026-MAY-2.jpg
END:VEVENT
END:VCALENDAR