BEGIN:VCALENDAR
VERSION:2.0
PRODID:-//Teamsters Local 1932 - ECPv6.15.20//NONSGML v1.0//EN
CALSCALE:GREGORIAN
METHOD:PUBLISH
X-WR-CALNAME:Teamsters Local 1932
X-ORIGINAL-URL:https://www.teamsters1932.org
X-WR-CALDESC:Events for Teamsters Local 1932
REFRESH-INTERVAL;VALUE=DURATION:PT1H
X-Robots-Tag:noindex
X-PUBLISHED-TTL:PT1H
BEGIN:VTIMEZONE
TZID:America/Los_Angeles
BEGIN:DAYLIGHT
TZOFFSETFROM:-0800
TZOFFSETTO:-0700
TZNAME:PDT
DTSTART:20230312T100000
END:DAYLIGHT
BEGIN:STANDARD
TZOFFSETFROM:-0700
TZOFFSETTO:-0800
TZNAME:PST
DTSTART:20231105T090000
END:STANDARD
BEGIN:DAYLIGHT
TZOFFSETFROM:-0800
TZOFFSETTO:-0700
TZNAME:PDT
DTSTART:20240310T100000
END:DAYLIGHT
BEGIN:STANDARD
TZOFFSETFROM:-0700
TZOFFSETTO:-0800
TZNAME:PST
DTSTART:20241103T090000
END:STANDARD
BEGIN:DAYLIGHT
TZOFFSETFROM:-0800
TZOFFSETTO:-0700
TZNAME:PDT
DTSTART:20250309T100000
END:DAYLIGHT
BEGIN:STANDARD
TZOFFSETFROM:-0700
TZOFFSETTO:-0800
TZNAME:PST
DTSTART:20251102T090000
END:STANDARD
BEGIN:DAYLIGHT
TZOFFSETFROM:-0800
TZOFFSETTO:-0700
TZNAME:PDT
DTSTART:20260308T100000
END:DAYLIGHT
BEGIN:STANDARD
TZOFFSETFROM:-0700
TZOFFSETTO:-0800
TZNAME:PST
DTSTART:20261101T090000
END:STANDARD
BEGIN:DAYLIGHT
TZOFFSETFROM:-0800
TZOFFSETTO:-0700
TZNAME:PDT
DTSTART:20270314T100000
END:DAYLIGHT
BEGIN:STANDARD
TZOFFSETFROM:-0700
TZOFFSETTO:-0800
TZNAME:PST
DTSTART:20271107T090000
END:STANDARD
END:VTIMEZONE
BEGIN:VEVENT
DTSTART;TZID=America/Los_Angeles:20260204T170000
DTEND;TZID=America/Los_Angeles:20260204T190000
DTSTAMP:20260422T153435
CREATED:20251203T190402Z
LAST-MODIFIED:20251203T190402Z
UID:9562-1770224400-1770231600@www.teamsters1932.org
SUMMARY:Retirement Seminar
DESCRIPTION:Contact Becky Lepins for more info (blepins@teamsters1932.org).
URL:https://www.teamsters1932.org/event/retirement-seminar/
ATTACH;FMTTYPE=image/jpeg:https://www.teamsters1932.org/app/uploads/2025/12/Retirement-Seminar-February-4-2026.jpg
END:VEVENT
BEGIN:VEVENT
DTSTART;TZID=America/Los_Angeles:20260127T173000
DTEND;TZID=America/Los_Angeles:20260127T200000
DTSTAMP:20260422T153435
CREATED:20260107T210413Z
LAST-MODIFIED:20260123T195531Z
UID:9613-1769535000-1769544000@www.teamsters1932.org
SUMMARY:January Membership Meeting
DESCRIPTION:
URL:https://www.teamsters1932.org/event/january-membership-meeting/
ATTACH;FMTTYPE=image/png:https://www.teamsters1932.org/app/uploads/2026/01/GMM-socials-3.png
END:VEVENT
BEGIN:VEVENT
DTSTART;VALUE=DATE:20260104
DTEND;VALUE=DATE:20260105
DTSTAMP:20260422T153435
CREATED:20251201T231702Z
LAST-MODIFIED:20251201T232226Z
UID:9556-1767484800-1767571199@www.teamsters1932.org
SUMMARY:Fairplex Imaginarium
DESCRIPTION:For more info\, Contact: Ralph Lopez (rlopez@teamsters1932.org)
URL:https://www.teamsters1932.org/event/fairplex-imaginarium-2/
ATTACH;FMTTYPE=image/jpeg:https://www.teamsters1932.org/app/uploads/2025/12/Teamsters-25-Imaginarium-Flyer.jpg
END:VEVENT
BEGIN:VEVENT
DTSTART;TZID=America/Los_Angeles:20251218T173000
DTEND;TZID=America/Los_Angeles:20251218T200000
DTSTAMP:20260422T153435
CREATED:20251209T234318Z
LAST-MODIFIED:20251209T234318Z
UID:9579-1766079000-1766088000@www.teamsters1932.org
SUMMARY:December General Membership Meeting
DESCRIPTION:
URL:https://www.teamsters1932.org/event/december-general-membership-meeting/
ATTACH;FMTTYPE=image/png:https://www.teamsters1932.org/app/uploads/2025/12/GMM-socials-2.png
END:VEVENT
BEGIN:VEVENT
DTSTART;TZID=America/Los_Angeles:20251203T160000
DTEND;TZID=America/Los_Angeles:20251203T190000
DTSTAMP:20260422T153435
CREATED:20251111T002218Z
LAST-MODIFIED:20251111T002218Z
UID:9526-1764777600-1764788400@www.teamsters1932.org
SUMMARY:Annual Open House
DESCRIPTION:
URL:https://www.teamsters1932.org/event/annual-open-house/
ATTACH;FMTTYPE=image/png:https://www.teamsters1932.org/app/uploads/2025/11/Open-House-website-post.png
END:VEVENT
BEGIN:VEVENT
DTSTART;TZID=America/Los_Angeles:20251118T173000
DTEND;TZID=America/Los_Angeles:20251118T200000
DTSTAMP:20260422T153435
CREATED:20251111T001927Z
LAST-MODIFIED:20251111T001927Z
UID:9524-1763487000-1763496000@www.teamsters1932.org
SUMMARY:General Membership Meeting
DESCRIPTION:
URL:https://www.teamsters1932.org/event/general-membership-meeting-12/
ATTACH;FMTTYPE=image/png:https://www.teamsters1932.org/app/uploads/2025/11/GMM-socials-.png
END:VEVENT
BEGIN:VEVENT
DTSTART;TZID=America/Los_Angeles:20251115T090000
DTEND;TZID=America/Los_Angeles:20251115T170000
DTSTAMP:20260422T153435
CREATED:20251030T163133Z
LAST-MODIFIED:20251030T163625Z
UID:9502-1763197200-1763226000@www.teamsters1932.org
SUMMARY:No Teamster Family Left Behind
DESCRIPTION:
URL:https://www.teamsters1932.org/event/no-teamster-family-left-behind/
ATTACH;FMTTYPE=image/jpeg:https://www.teamsters1932.org/app/uploads/2025/10/IMG_6994.jpg
END:VEVENT
BEGIN:VEVENT
DTSTART;TZID=America/Los_Angeles:20251028T173000
DTEND;TZID=America/Los_Angeles:20251028T190000
DTSTAMP:20260422T153435
CREATED:20251022T003308Z
LAST-MODIFIED:20251022T003308Z
UID:9495-1761672600-1761678000@www.teamsters1932.org
SUMMARY:October Membership Meeting
DESCRIPTION:
URL:https://www.teamsters1932.org/event/october-membership-meeting/
ATTACH;FMTTYPE=image/png:https://www.teamsters1932.org/app/uploads/2025/10/GMM-socials-.png
END:VEVENT
BEGIN:VEVENT
DTSTART;TZID=America/Los_Angeles:20250930T173000
DTEND;TZID=America/Los_Angeles:20250930T193000
DTSTAMP:20260422T153435
CREATED:20250912T185808Z
LAST-MODIFIED:20250912T185828Z
UID:9438-1759253400-1759260600@www.teamsters1932.org
SUMMARY:General Membership Meeting
DESCRIPTION:
URL:https://www.teamsters1932.org/event/general-membership-meeting-11/
ATTACH;FMTTYPE=image/png:https://www.teamsters1932.org/app/uploads/2025/09/GMM-socials-.png
END:VEVENT
BEGIN:VEVENT
DTSTART;TZID=America/Los_Angeles:20250927T110000
DTEND;TZID=America/Los_Angeles:20250927T160000
DTSTAMP:20260422T153435
CREATED:20250806T204747Z
LAST-MODIFIED:20250806T204747Z
UID:9379-1758970800-1758988800@www.teamsters1932.org
SUMMARY:Teamsters Member Picnic
DESCRIPTION:Click here to register. \n 
URL:https://www.teamsters1932.org/event/teamsters-member-picnic/
ATTACH;FMTTYPE=image/png:https://www.teamsters1932.org/app/uploads/2025/08/2025-MEMBER-PICNIC-.png
END:VEVENT
BEGIN:VEVENT
DTSTART;TZID=America/Los_Angeles:20250620T090000
DTEND;TZID=America/Los_Angeles:20250620T170000
DTSTAMP:20260422T153435
CREATED:20250609T214921Z
LAST-MODIFIED:20250609T220241Z
UID:9269-1750410000-1750438800@www.teamsters1932.org
SUMMARY:Health and Welfare Trust Open Enrollment
DESCRIPTION:The Open Enrollment period for the Teamsters Local 1932 Health and Welfare Trust Fund is now open. This is your annual opportunity to review your benefits\, make changes to your health coverage\, and ensure you and your family are protected for the year ahead. \n  \nHere\, you will find a video that addresses much of the misinformation going around. Teamsters Local 1932 President\, Kathleen Brennan ( An 18-year County Employee) and Secretary-Treasurer\, Randy Korgan\, address members on Open Enrollment. \n  \nMemos for current Blue Shield and Kaiser Permanente participants were sent an Open Enrollment letter. You can view those here: Kaiser Letter\, Blue Shield Letter. \n  \nUpcoming Webinars and In Person help can be found here: https://www.teamsters1932.org/trust/ \n 
URL:https://www.teamsters1932.org/event/health-and-welfare-trust-open-enrollment/
ATTACH;FMTTYPE=image/png:https://www.teamsters1932.org/app/uploads/2025/06/Open-Enrollment-2.png
END:VEVENT
BEGIN:VEVENT
DTSTART;TZID=America/Los_Angeles:20250619T110000
DTEND;TZID=America/Los_Angeles:20250619T170000
DTSTAMP:20260422T153435
CREATED:20250616T203437Z
LAST-MODIFIED:20250616T203706Z
UID:9291-1750330800-1750352400@www.teamsters1932.org
SUMMARY:Juneteenth Block Party
DESCRIPTION:RSVP Here: https://docs.google.com/forms/d/e/1FAIpQLSfxGmGMK-bzK1_Lan1B6mI9z2-RRUrkgKTaCNm6lULXp9w-IA/viewform \n 
URL:https://www.teamsters1932.org/event/juneteenth-block-party/
ATTACH;FMTTYPE=image/jpeg:https://www.teamsters1932.org/app/uploads/2025/06/IMG_5522.jpg
END:VEVENT
BEGIN:VEVENT
DTSTART;TZID=America/Los_Angeles:20250520T173000
DTEND;TZID=America/Los_Angeles:20250520T190000
DTSTAMP:20260422T153435
CREATED:20250506T205136Z
LAST-MODIFIED:20250506T205136Z
UID:9248-1747762200-1747767600@www.teamsters1932.org
SUMMARY:General Membership Meeting
DESCRIPTION:
URL:https://www.teamsters1932.org/event/general-membership-meeting-10/
ATTACH;FMTTYPE=image/png:https://www.teamsters1932.org/app/uploads/2025/05/Copy-of-Copy-of-GMM-FLYER-1080-x-1080-px.png
END:VEVENT
BEGIN:VEVENT
DTSTART;VALUE=DATE:20250422
DTEND;VALUE=DATE:20250423
DTSTAMP:20260422T153435
CREATED:20250403T152802Z
LAST-MODIFIED:20250403T152802Z
UID:9203-1745280000-1745366399@www.teamsters1932.org
SUMMARY:General Membership Meeting
DESCRIPTION:
URL:https://www.teamsters1932.org/event/general-membership-meeting-9/
ATTACH;FMTTYPE=image/png:https://www.teamsters1932.org/app/uploads/2025/04/GMM-FLYER-graphic-1.png
END:VEVENT
BEGIN:VEVENT
DTSTART;VALUE=DATE:20250418
DTEND;VALUE=DATE:20250419
DTSTAMP:20260422T153435
CREATED:20250324T152842Z
LAST-MODIFIED:20250402T213705Z
UID:9172-1744934400-1745020799@www.teamsters1932.org
SUMMARY:1932 Scholarship Application
DESCRIPTION:Dependent Application Click HERE. \nMember Application Click HERE.
URL:https://www.teamsters1932.org/event/1932-scholarship-application/
ATTACH;FMTTYPE=image/png:https://www.teamsters1932.org/app/uploads/2025/03/Screenshot-2025-03-24-082800.png
END:VEVENT
BEGIN:VEVENT
DTSTART;TZID=America/Los_Angeles:20250412T090000
DTEND;TZID=America/Los_Angeles:20250412T150000
DTSTAMP:20260422T153435
CREATED:20240911T174754Z
LAST-MODIFIED:20250128T221559Z
UID:8945-1744448400-1744470000@www.teamsters1932.org
SUMMARY:6th Annual Car Show
DESCRIPTION:Sign up for our 5th Annual Car Show Today!
URL:https://www.teamsters1932.org/event/5th-annual-car-show/
ATTACH;FMTTYPE=image/jpeg:https://www.teamsters1932.org/app/uploads/2024/09/Screenshot_20240905_163055_Messages.jpg
END:VEVENT
BEGIN:VEVENT
DTSTART;TZID=America/Los_Angeles:20250325T173000
DTEND;TZID=America/Los_Angeles:20250325T190000
DTSTAMP:20260422T153435
CREATED:20250310T172857Z
LAST-MODIFIED:20250310T172919Z
UID:9148-1742923800-1742929200@www.teamsters1932.org
SUMMARY:General Membership Meeting
DESCRIPTION:
URL:https://www.teamsters1932.org/event/general-membership-meeting-8/
ATTACH;FMTTYPE=image/png:https://www.teamsters1932.org/app/uploads/2025/03/GMM-FLYER-graphic.png
END:VEVENT
BEGIN:VEVENT
DTSTART;VALUE=DATE:20250307
DTEND;VALUE=DATE:20250308
DTSTAMP:20260422T153436
CREATED:20250115T172414Z
LAST-MODIFIED:20250115T172414Z
UID:9081-1741305600-1741391999@www.teamsters1932.org
SUMMARY:Agency Stewards Training
DESCRIPTION:
URL:https://www.teamsters1932.org/event/agency-stewards-training/
ATTACH;FMTTYPE=image/png:https://www.teamsters1932.org/app/uploads/2025/01/Agency-Stewards-Meeting.png
END:VEVENT
BEGIN:VEVENT
DTSTART;TZID=America/Los_Angeles:20250222T090000
DTEND;TZID=America/Los_Angeles:20250222T120000
DTSTAMP:20260422T153436
CREATED:20250213T183532Z
LAST-MODIFIED:20250213T183532Z
UID:9122-1740214800-1740225600@www.teamsters1932.org
SUMMARY:I.T. Career Expo
DESCRIPTION:
URL:https://www.teamsters1932.org/event/i-t-career-expo/
ATTACH;FMTTYPE=image/jpeg:https://www.teamsters1932.org/app/uploads/2025/02/IT-Expo-Instagram-Format.jpg
END:VEVENT
BEGIN:VEVENT
DTSTART;TZID=America/Los_Angeles:20250128T173000
DTEND;TZID=America/Los_Angeles:20250128T200000
DTSTAMP:20260422T153436
CREATED:20250115T172612Z
LAST-MODIFIED:20250115T172612Z
UID:9087-1738085400-1738094400@www.teamsters1932.org
SUMMARY:January General Membership Meeting
DESCRIPTION:
URL:https://www.teamsters1932.org/event/january-general-membership-meeting/
ATTACH;FMTTYPE=image/png:https://www.teamsters1932.org/app/uploads/2025/01/JanuaryGMM.png
END:VEVENT
BEGIN:VEVENT
DTSTART;TZID=America/Los_Angeles:20241207T080000
DTEND;TZID=America/Los_Angeles:20241207T170000
DTSTAMP:20260422T153436
CREATED:20241123T044642Z
LAST-MODIFIED:20241123T044642Z
UID:9031-1733558400-1733590800@www.teamsters1932.org
SUMMARY:Help a Teamster Family Member
DESCRIPTION:Teamster Brother\, Jesus Dehoyos\, has sadly lost his mother and is asking for donations to help with funeral expenses. \n  \nPlease Donate if you can. You can find the link Here: https://gofund.me/4c1db332 \n 
URL:https://www.teamsters1932.org/event/help-a-teamster-family-member/
ATTACH;FMTTYPE=image/png:https://www.teamsters1932.org/app/uploads/2024/11/gofundme-squarelogo-1590529947585.png
END:VEVENT
BEGIN:VEVENT
DTSTART;TZID=America/Los_Angeles:20241204T150000
DTEND;TZID=America/Los_Angeles:20241204T190000
DTSTAMP:20260422T153436
CREATED:20241108T174813Z
LAST-MODIFIED:20241108T174847Z
UID:9007-1733324400-1733338800@www.teamsters1932.org
SUMMARY:Teamsters Local 1932 Open House
DESCRIPTION:
URL:https://www.teamsters1932.org/event/teamsters-local-1932-open-house/
ATTACH;FMTTYPE=image/png:https://www.teamsters1932.org/app/uploads/2024/11/open-House-flyer.png
END:VEVENT
BEGIN:VEVENT
DTSTART;VALUE=DATE:20241117
DTEND;VALUE=DATE:20241118
DTSTAMP:20260422T153436
CREATED:20241112T201030Z
LAST-MODIFIED:20241112T224309Z
UID:9016-1731801600-1731887999@www.teamsters1932.org
SUMMARY:Teamsters Local 1932 Health & Welfare Trust Wellness Program
DESCRIPTION:Let your voice be heard and take the survey!
URL:https://www.teamsters1932.org/event/teamsters-local-1932-health-welfare-trust-wellness-program/
ATTACH;FMTTYPE=image/png:https://www.teamsters1932.org/app/uploads/2024/11/Health-and-Welfare-Trust.png
END:VEVENT
BEGIN:VEVENT
DTSTART;TZID=America/Los_Angeles:20241113T140000
DTEND;TZID=America/Los_Angeles:20241113T160000
DTSTAMP:20260422T153436
CREATED:20241108T175027Z
LAST-MODIFIED:20241108T175105Z
UID:9010-1731506400-1731513600@www.teamsters1932.org
SUMMARY:Worker Power Hour Radio Show
DESCRIPTION:
URL:https://www.teamsters1932.org/event/worker-power-hour-radio-show/
ATTACH;FMTTYPE=image/png:https://www.teamsters1932.org/app/uploads/2024/11/Worker-Power-Hour-Radio-show-flyer-2.png
END:VEVENT
BEGIN:VEVENT
DTSTART;TZID=America/Los_Angeles:20241029T173000
DTEND;TZID=America/Los_Angeles:20241029T190000
DTSTAMP:20260422T153436
CREATED:20241011T190706Z
LAST-MODIFIED:20241011T190706Z
UID:8984-1730223000-1730228400@www.teamsters1932.org
SUMMARY:General Membership Meeting
DESCRIPTION:
URL:https://www.teamsters1932.org/event/general-membership-meeting-7/
ATTACH;FMTTYPE=image/png:https://www.teamsters1932.org/app/uploads/2024/10/GENERAL-MEMBERSHIP-MEETING.png
END:VEVENT
BEGIN:VEVENT
DTSTART;TZID=America/Los_Angeles:20241026T090000
DTEND;TZID=America/Los_Angeles:20241026T120000
DTSTAMP:20260422T153436
CREATED:20241002T153407Z
LAST-MODIFIED:20241002T153407Z
UID:8980-1729933200-1729944000@www.teamsters1932.org
SUMMARY:Teamsters Training Center Health Expo
DESCRIPTION:
URL:https://www.teamsters1932.org/event/teamsters-training-center-health-expo/
ATTACH;FMTTYPE=image/jpeg:https://www.teamsters1932.org/app/uploads/2024/10/Health-Expo-Oct-26th.jpg
END:VEVENT
BEGIN:VEVENT
DTSTART;VALUE=DATE:20241007
DTEND;VALUE=DATE:20241008
DTSTAMP:20260422T153436
CREATED:20240912T171546Z
LAST-MODIFIED:20240912T171546Z
UID:8948-1728259200-1728345599@www.teamsters1932.org
SUMMARY:Teamsters Warehouse and Distribution Training
DESCRIPTION:Register now for our free 6-week warehouse training!
URL:https://www.teamsters1932.org/event/teamsters-warehouse-and-distribution-training/
ATTACH;FMTTYPE=image/png:https://www.teamsters1932.org/app/uploads/2024/09/warehouse-training-classes.png
END:VEVENT
BEGIN:VEVENT
DTSTART;TZID=America/Los_Angeles:20240928T110000
DTEND;TZID=America/Los_Angeles:20240928T160000
DTSTAMP:20260422T153436
CREATED:20240806T183129Z
LAST-MODIFIED:20240806T183520Z
UID:8892-1727521200-1727539200@www.teamsters1932.org
SUMMARY:Annual Member Picnic
DESCRIPTION:
URL:https://www.teamsters1932.org/event/annual-member-picnic/
ATTACH;FMTTYPE=image/png:https://www.teamsters1932.org/app/uploads/2024/08/annual-family-day-picnic.png
END:VEVENT
BEGIN:VEVENT
DTSTART;TZID=America/Los_Angeles:20240924T173000
DTEND;TZID=America/Los_Angeles:20240924T190000
DTSTAMP:20260422T153436
CREATED:20240917T165011Z
LAST-MODIFIED:20240917T165041Z
UID:8957-1727199000-1727204400@www.teamsters1932.org
SUMMARY:General Membership Meeting
DESCRIPTION:
URL:https://www.teamsters1932.org/event/general-membership-meeting-6/
ATTACH;FMTTYPE=image/png:https://www.teamsters1932.org/app/uploads/2024/09/GENERAL-MEMBERSHIP-MEETING.png
END:VEVENT
BEGIN:VEVENT
DTSTART;TZID=America/Los_Angeles:20240914T080000
DTEND;TZID=America/Los_Angeles:20240914T170000
DTSTAMP:20260422T153436
CREATED:20240806T183232Z
LAST-MODIFIED:20240806T183624Z
UID:8896-1726300800-1726333200@www.teamsters1932.org
SUMMARY:Teamsters Local 1932 4th Annual Women's Conference
DESCRIPTION:
URL:https://www.teamsters1932.org/event/teamsters-local-1932-4th-annual-womens-conference/
ATTACH;FMTTYPE=image/png:https://www.teamsters1932.org/app/uploads/2024/08/1932-womens-conference.png
END:VEVENT
END:VCALENDAR