BEGIN:VCALENDAR
VERSION:2.0
PRODID:-//Teamsters Local 1932 - ECPv6.15.20//NONSGML v1.0//EN
CALSCALE:GREGORIAN
METHOD:PUBLISH
X-ORIGINAL-URL:https://www.teamsters1932.org
X-WR-CALDESC:Events for Teamsters Local 1932
REFRESH-INTERVAL;VALUE=DURATION:PT1H
X-Robots-Tag:noindex
X-PUBLISHED-TTL:PT1H
BEGIN:VTIMEZONE
TZID:America/Los_Angeles
BEGIN:DAYLIGHT
TZOFFSETFROM:-0800
TZOFFSETTO:-0700
TZNAME:PDT
DTSTART:20220313T100000
END:DAYLIGHT
BEGIN:STANDARD
TZOFFSETFROM:-0700
TZOFFSETTO:-0800
TZNAME:PST
DTSTART:20221106T090000
END:STANDARD
BEGIN:DAYLIGHT
TZOFFSETFROM:-0800
TZOFFSETTO:-0700
TZNAME:PDT
DTSTART:20230312T100000
END:DAYLIGHT
BEGIN:STANDARD
TZOFFSETFROM:-0700
TZOFFSETTO:-0800
TZNAME:PST
DTSTART:20231105T090000
END:STANDARD
BEGIN:DAYLIGHT
TZOFFSETFROM:-0800
TZOFFSETTO:-0700
TZNAME:PDT
DTSTART:20240310T100000
END:DAYLIGHT
BEGIN:STANDARD
TZOFFSETFROM:-0700
TZOFFSETTO:-0800
TZNAME:PST
DTSTART:20241103T090000
END:STANDARD
END:VTIMEZONE
BEGIN:VEVENT
DTSTART;TZID=America/Los_Angeles:20231126T130000
DTEND;TZID=America/Los_Angeles:20231126T193000
DTSTAMP:20260422T173653
CREATED:20230803T171445Z
LAST-MODIFIED:20231030T221013Z
UID:8219-1701003600-1701027000@www.teamsters1932.org
SUMMARY:LA Chargers Discounted Tickets
DESCRIPTION:BACK BY POULAR DEMAND \n\n\n\n\n\n– NOVEMBER 26TH VS BALTIMORE RAVENS \nClick the here to purchase your discounted tickets. 
URL:https://www.teamsters1932.org/event/la-chargers-discounted-tickets/
LOCATION:SoFi Stadium\, 1001 Stadium Dr\, Inglewood\, CA\, United States
ATTACH;FMTTYPE=image/jpeg:https://www.teamsters1932.org/app/uploads/2023/08/LA-Chargers-2.jpg
END:VEVENT
END:VCALENDAR